BEGIN:VCALENDAR
VERSION:2.0
PRODID:-//Squarespace Inc/Squarespace 6//v6//EN
BEGIN:VEVENT
UID:5b3b0a8e1ae6cf7a1e398d98@squarespace.com
DTSTAMP:20201124T215803Z
DTSTART:20210519T080000Z
DTEND:20210522T230000Z
SUMMARY:ASGO ASM 2021
GEO:-28.625881;153.58722
LOCATION:Elements of Byron\, 144 Bayshore Drive\, Byron Bay\, NSW\, 2481\, 
 Australia
END:VEVENT
END:VCALENDAR
